BEGIN:VCALENDAR
VERSION:2.0
PRODID:-//Volt Europa//Events//EN
CALSCALE:GREGORIAN
METHOD:PUBLISH
BEGIN:VEVENT
UID:meeting-de-notre-coalition-ete-1713616200@voltfrance.org
DTSTAMP:20260423T113000Z
DTSTART;TZID=Europe/Paris:20240420T143000
DTEND;TZID=Europe/Paris:20240420T183000
SUMMARY:J-50 Meeting Coalition ETE
DESCRIPTION:Des tables rondes\, des présentations et des discours seront f
 ait par l’ensemble des candidats et candidates ainsi que des représentan
 ts des formations de la coalition ! Samedi 20 avril à midi pour les candid
 ats et candidates de la liste Pour tout le monde: samedi 20 avril de 14h30 
 à 17h00 Programme Samedi 20/04 11h30 : Navette depuis la gare de Toulouse 
 pour Labège Centre de congrès Diagora 11h30 : Meeting des candidates et c
 andidats de la liste ETE 14h30: Grand meeting de la coalition (jusqu'à 
LOCATION:Centre de Congrès et d’Exposition Diagora\, 150 Rue Pierre Gill
 es de Gennes\, 31670 Labège\, Haute-Garonne
URL:https://voltfrance.org/evenements/meeting-de-notre-coalition-ete
END:VEVENT
END:VCALENDAR
