BEGIN:VCALENDAR
VERSION:2.0
PRODID:-//Volt Europa//Events//EN
CALSCALE:GREGORIAN
METHOD:PUBLISH
BEGIN:VEVENT
UID:meetgreet-anna-niemi-chaussec-1749484800@voltfrance.org
DTSTAMP:20260423T155518Z
DTSTART;TZID=Europe/Paris:20250609T180000
DTEND;TZID=Europe/Paris:20250609T210000
SUMMARY:Meet&Greet Anna Niemi-Chaussec
DESCRIPTION:Anna Niemi-Chaussec\, est la présidente de Volt Finlande\, de 
 passage à Paris. Réservons lui le meilleur accueil\, échangeons nos meil
 leures pratiques\, faisons de cette soirée un moment de convivialité inou
 bliable ! Merci @miss_zach pour son image.
LOCATION:Café HoBa\, 43\, rue Bernard Buffet\, 75017 Paris.
URL:https://voltfrance.org/evenements/meetgreet-anna-niemi-chaussec
END:VEVENT
END:VCALENDAR
