BEGIN:VCALENDAR
VERSION:2.0
PRODID:-//Volt Europa//Events//EN
CALSCALE:GREGORIAN
METHOD:PUBLISH
BEGIN:VEVENT
UID:meet-sven-1711650600@voltfrance.org
DTSTAMP:20260423T112827Z
DTSTART;TZID=Europe/Paris:20240328T193000
DTEND;TZID=Europe/Paris:20240328T201500
SUMMARY:Volteurs\, venez rencontrer Sven!
DESCRIPTION:Sven Franck est candidat masculin pour la co-tête de liste tr
 anseuropéenne de Volt Europa. Cet évènement est interne à Volt.
LOCATION:Online
URL:https://voltfrance.org/evenements/meet-sven
END:VEVENT
END:VCALENDAR
