BEGIN:VCALENDAR
VERSION:2.0
PRODID:-//Volt Europa//Events//EN
CALSCALE:GREGORIAN
METHOD:PUBLISH
BEGIN:VEVENT
UID:meet-rayna-1711908000@voltfrance.org
DTSTAMP:20260423T112826Z
DTSTART;TZID=Europe/Paris:20240331T200000
DTEND;TZID=Europe/Paris:20240331T210000
SUMMARY:Venez rencontrez Rayna!
DESCRIPTION:Co-tête de liste féminine Volt France pour les élections eur
 opéennes 2024. Rayna\, 41 ans\, née en Bulgarie\, est spécialiste des en
 jeux du numérique et des affaires européennes. Elle enseigne à Sciences 
 Po Paris et est l’auteure de “La face cachée d’Internet” (Larousse
 )\, primé en 2018.
LOCATION:Online
URL:https://voltfrance.org/evenements/meet-rayna
END:VEVENT
END:VCALENDAR
