BEGIN:VCALENDAR
VERSION:2.0
PRODID:-//Volt Europa//Events//EN
CALSCALE:GREGORIAN
METHOD:PUBLISH
BEGIN:VEVENT
UID:meet-greet-volt-paris-1757172600@voltfrance.org
DTSTAMP:20260423T112836Z
DTSTART;TZID=Europe/Paris:20250906T173000
DTEND;TZID=Europe/Paris:20250906T190000
SUMMARY:Meet & Greet Volt Paris
DESCRIPTION:Après une dure journée de tractage\, tout le monde se retrouv
 e pour un moment de détente avec les membres de Volt Île de France. Avec 
  Anne Chamayou  notre candidate pour le 2ème de Paris aux legislatives par
 tielles les 21 et 28 septembre 2025. Venez partager un verre et notre entho
 usiasme pour un Futur made in Europe !
LOCATION:Bistro 1\, 4 rue de l'Ecole de Médecine\, 75006 Paris
URL:https://voltfrance.org/evenements/meet-greet-volt-paris
END:VEVENT
END:VCALENDAR
