BEGIN:VCALENDAR
VERSION:2.0
PRODID:-//Volt Europa//Events//EN
CALSCALE:GREGORIAN
METHOD:PUBLISH
BEGIN:VEVENT
UID:meet-greet-de-rentree-a-nice-avec-volt-sud-est-mediterranee-1757091600@
 voltfrance.org
DTSTAMP:20260423T130713Z
DTSTART;TZID=Europe/Paris:20250905T190000
DTEND;TZID=Europe/Paris:20250905T203000
SUMMARY:Meet & Greet de rentrée à Nice avec Volt Sud Est Méditerranée
DESCRIPTION:C'est la rentrée ! Venez rencontrer en toute convivialité\, l
 es militants de Volt Nice\, pour parler des prochaines élections municipal
 es et découvrir une nouvelle façon de faire de la politique !  Sympathisa
 nts\, partenaires et passants sont les bienvenus  !
LOCATION:La civette du cours \, 1 cours Saleya\, 06000 Nice
URL:https://voltfrance.org/evenements/meet-greet-de-rentree-a-nice-avec-vol
 t-sud-est-mediterranee
END:VEVENT
END:VCALENDAR
