BEGIN:VCALENDAR
VERSION:2.0
PRODID:-//Volt Europa//Events//EN
CALSCALE:GREGORIAN
METHOD:PUBLISH
BEGIN:VEVENT
UID:meet-greet-avec-anna-strolenberg-1749049200@voltfrance.org
DTSTAMP:20260423T113010Z
DTSTART;TZID=Europe/Paris:20250604T170000
DTEND;TZID=Europe/Paris:20250604T190000
SUMMARY:Meet & Greet avec Anna Strolenberg
DESCRIPTION:Anna Strolenberg est la députée européenne de Volt\, dédié
 e à la France\, en visite à Paris. Venez la rencontrer dans un lieu charg
 é d'histoire\, au centre de la Halle Saint-Quentin (à côté de la P'tite
  Bougnate) et partager un bon moment avec les membres de Volt Paris Ile de 
 France.
LOCATION:Marché couvert Saint-Quentin - 85 B boulevard de Magenta\, 75010 
 Paris
URL:https://voltfrance.org/evenements/meet-greet-avec-anna-strolenberg
END:VEVENT
END:VCALENDAR
