BEGIN:VCALENDAR
VERSION:2.0
PRODID:-//Volt Europa//Events//EN
CALSCALE:GREGORIAN
METHOD:PUBLISH
BEGIN:VEVENT
UID:meet-greet-a-paris-1760191200@voltfrance.org
DTSTAMP:20260423T094626Z
DTSTART;TZID=Europe/Paris:20251011T160000
DTEND;TZID=Europe/Paris:20251011T183000
SUMMARY:Meet & Greet à Paris
DESCRIPTION:Volt Paris Ile de France vous invite à fêter la  participatio
 n de Volt à la législative partielle dans la 2ème circonscription de Par
 is\, au premier étage du Bistro 1 Un grand remerciement à tous ceux qui o
 nt participé à notre campagne\, par les publications sur les réseaux\, p
 ar la distribution de tracts et les campagnes d'affichage. Nous n'avons pas
  les moyens des grands mais nous savons nous mobiliser même dans des déla
 is très courts ! Les boissons seront offertes pour l'occasion !
LOCATION:Bistro 1\, 4 rue de l'Ecole de Médecine\, 75006 Paris
URL:https://voltfrance.org/evenements/meet-greet-a-paris
END:VEVENT
END:VCALENDAR
