BEGIN:VCALENDAR
VERSION:2.0
PRODID:-//Volt Europa//Events//EN
CALSCALE:GREGORIAN
METHOD:PUBLISH
BEGIN:VEVENT
UID:meet-greet-a-nice-1770922800@voltfrance.org
DTSTAMP:20260425T161948Z
DTSTART;TZID=Europe/Paris:20260212T200000
DTEND;TZID=Europe/Paris:20260212T220000
SUMMARY:Meet & Greet à Nice
DESCRIPTION:Volt Nice  vous invite à partager un moment convivial\, faire 
 connaissance avec une nouvelle manière de faire de la politique\, parler d
 'avenir et de solutions\, de bonnes pratiques et de démocratie\,  c'est le
  moment où jamais !  Venez découvrir le Futur made in Europe !
LOCATION:Ma Nolan’s\, 2 rue Saint-François de Paule\, 06000 Nice
URL:https://voltfrance.org/evenements/meet-greet-a-nice
END:VEVENT
END:VCALENDAR
