BEGIN:VCALENDAR
VERSION:2.0
PRODID:-//Volt Europa//Events//EN
CALSCALE:GREGORIAN
METHOD:PUBLISH
BEGIN:VEVENT
UID:meet-greet-a-bordeaux-1748080800@voltfrance.org
DTSTAMP:20260423T112907Z
DTSTART;TZID=Europe/Paris:20250524T120000
DTEND;TZID=Europe/Paris:20250524T150000
SUMMARY:Meet & Greet à Bordeaux
DESCRIPTION:Volt vous invite à un moment convivial ! Ce sera l’occasion 
 de faire connaissance\, d’échanger sur vos envies\, vos idées et de pos
 er toutes vos questions. Que vous soyez tout juste arrivé·e ou déjà bie
 n impliqué·e\, on a hâte de vous rencontrer !
LOCATION:Les Récoltants\, 18 Rue Sainte-Colombe\, 33000 Bordeaux
URL:https://voltfrance.org/evenements/meet-greet-a-bordeaux
END:VEVENT
END:VCALENDAR
