BEGIN:VCALENDAR
VERSION:2.0
PRODID:-//Volt Europa//Events//EN
CALSCALE:GREGORIAN
METHOD:PUBLISH
BEGIN:VEVENT
UID:meet-and-greet-damian-boeselager-a-paris-1744653600@voltfrance.org
DTSTAMP:20260423T113240Z
DTSTART;TZID=Europe/Paris:20250414T200000
DTEND;TZID=Europe/Paris:20250414T220000
SUMMARY:Meet and Greet Damian Boeselager à Paris !
DESCRIPTION:Damian Boeselager \,  co-fondateur de Volt et eurodéputé \, s
 era à Paris prochainement et serait heureux de rencontrer et d'échanger a
 vec des membres de Volt France.  Venez faire connaissance ! Vous pourrez lu
 i poser toutes vos questions sur la création de Volt\, son expérience en 
 tant que député européen\, etc... C'est aussi un bonne occasion de passe
 r un excellent moment convivial !
LOCATION:La Felicità\, 5 Parvis Alan Turing\, 75013 Paris.
URL:https://voltfrance.org/evenements/meet-and-greet-damian-boeselager-a-pa
 ris
END:VEVENT
END:VCALENDAR
