BEGIN:VCALENDAR
VERSION:2.0
PRODID:-//Volt Europa//Events//EN
CALSCALE:GREGORIAN
METHOD:PUBLISH
BEGIN:VEVENT
UID:meet-and-greet-avec-volt-lille-1741199400@voltfrance.org
DTSTAMP:20260423T130713Z
DTSTART;TZID=Europe/Paris:20250305T193000
DTEND;TZID=Europe/Paris:20250305T213000
SUMMARY:Meet and Greet avec Volt Lille
DESCRIPTION:Volt Lille invite tous les Volteurs et sympathisants\, désireu
 x de  découvrir une autre façon de faire de la politique à venir discute
 r et partager un verre. Les élections municipales et métropolitaines\, c'
 est l'année prochaine\, faisons en sorte d'être prêts et informés !
LOCATION:Grand Scène \, 31 rue de Béthune Lille
URL:https://voltfrance.org/evenements/meet-and-greet-avec-volt-lille
END:VEVENT
END:VCALENDAR
