BEGIN:VCALENDAR
VERSION:2.0
PRODID:-//Volt Europa//Events//EN
CALSCALE:GREGORIAN
METHOD:PUBLISH
BEGIN:VEVENT
UID:meet-and-greet-a-lyon-1768071600@voltfrance.org
DTSTAMP:20260423T112906Z
DTSTART;TZID=Europe/Paris:20260110T200000
DTEND;TZID=Europe/Paris:20260110T220000
SUMMARY:Meet and Greet\, à Lyon
DESCRIPTION:A l'occasion de la visite à Lyon du Bureau national de Volt Fr
 ance\, Volt Lyon organise une rencontre avec les membres locaux et les symp
 athisants de Volt\, ainsi que nos partenaires de En Commun! et d'Equinoxe\,
  en vue de la préparation des élections municipales. Nous vous espérons 
 nombreux\, que vous soyez seulement curieux ou que vous soyez intéressés 
 à faire de la politique autrement !
LOCATION:Le Remède\, 8 place Anatole France\, 69600 Oullins
URL:https://voltfrance.org/evenements/meet-and-greet-a-lyon
END:VEVENT
END:VCALENDAR
