BEGIN:VCALENDAR
VERSION:2.0
PRODID:-//Volt Europa//Events//EN
CALSCALE:GREGORIAN
METHOD:PUBLISH
BEGIN:VEVENT
UID:meet-and-greet-a-bordeaux-1761148800@voltfrance.org
DTSTAMP:20260425T161750Z
DTSTART;TZID=Europe/Paris:20251022T180000
DTEND;TZID=Europe/Paris:20251022T200000
SUMMARY:Meet and Greet à Bordeaux !
DESCRIPTION:Amis bordelais\, venez passer un moment convivial avec les memb
 res de Volt Aquitaine\, parler d'avenir et de solutions\, de bonnes pratiqu
 es et de démocratie\,  c'est le moment où jamais !  Venez faire connaissa
 nce avec le Futur made in Europe
LOCATION:L'Ombrière\, 14 Place du Parlement\, 33000 Bordeaux
URL:https://voltfrance.org/evenements/meet-and-greet-a-bordeaux
END:VEVENT
END:VCALENDAR
