BEGIN:VCALENDAR
VERSION:2.0
PRODID:-//Volt Europa//Events//EN
CALSCALE:GREGORIAN
METHOD:PUBLISH
BEGIN:VEVENT
UID:meet-and-greet-a-biarritz-1744302600@voltfrance.org
DTSTAMP:20260423T112952Z
DTSTART;TZID=Europe/Paris:20250410T183000
DTEND;TZID=Europe/Paris:20250410T203000
SUMMARY:Meet and Greet à Biarritz
DESCRIPTION:Volt Sud Ouest organise une rencontre à Biarritz\, pour accuei
 llir les nouveaux militants\, préparer les actions à venir\, parler des p
 rochaines campagnes . Venez rencontrer les militants de Volt Biarritz\, ven
 ez vous faire connaitre !
LOCATION:Newquay Pub\, 20 place Georges Clemenceau\, 64200 Biarritz
URL:https://voltfrance.org/evenements/meet-and-greet-a-biarritz
END:VEVENT
END:VCALENDAR
