BEGIN:VCALENDAR
VERSION:2.0
PRODID:-//Volt Europa//Events//EN
CALSCALE:GREGORIAN
METHOD:PUBLISH
BEGIN:VEVENT
UID:marche-pour-lukraine-1740315600@voltfrance.org
DTSTAMP:20260423T112846Z
DTSTART;TZID=Europe/Paris:20250223T140000
DTEND;TZID=Europe/Paris:20250223T173000
SUMMARY:Marche pour l'Ukraine
DESCRIPTION:Apres 3 ans de guerre\, alors que Trump et Poutine s'apprêtent
  à régler le sort du pays sans sa participation\, il est temps que l'Euro
 pe fasse peser son poids dans la balance. Volt appelle l'Europe à s'engage
 r davantage pour une paix équitable. Volt Ile de France participera à la 
 manifestation organisée à Paris par la communauté ukrainienne en France.
  De nombreuses manifestations sont également prévues dans d'autres villes
  de France. Stop à l'agression russe Pas de négociation sans l'Ukraine - 
 Pa
LOCATION:Place de la République\, 75003 Paris.
URL:https://voltfrance.org/evenements/marche-pour-lukraine
END:VEVENT
END:VCALENDAR
