BEGIN:VCALENDAR
VERSION:2.0
PRODID:-//Volt Europa//Events//EN
CALSCALE:GREGORIAN
METHOD:PUBLISH
BEGIN:VEVENT
UID:marche-pour-louverture-des-frontieres-2025-1752922800@voltfrance.org
DTSTAMP:20260423T113117Z
DTSTART;TZID=Europe/Paris:20250719T130000
DTEND;TZID=Europe/Paris:20250719T153000
SUMMARY:Marche pour lâ€™ouverture des frontiÃ¨res 2025
DESCRIPTION:La France a toujours Ã©tÃ© au cÅ“ur de lâ€™idÃ©e europÃ©enne. M
 ais aujourdâ€™hui\, cette idÃ©e est en danger :  les contrÃ´les aux frontiÃ
 ¨res refont surface \, la confiance entre Ã‰tats sâ€™effrite\, et  le proje
 t Schengen  est fragilisÃ©. Nous ne pouvons pas rester spectateurs. Le  sam
 edi 19 juillet \, Volt France rejoindra Volt Belgique\, Volt Luxembourg\, V
 olt Allemagne\, JEF et de nombreux citoyens et citoyennes europÃ©ens dans u
 n moment fort de mobilisation : March for Open Borders  â€“ pour dÃ©fendre 
 la libertÃ© de 
LOCATION:Multi Accueil\, Chemin des Acacias\, 57480 Apach.
URL:https://voltfrance.org/evenements/marche-pour-louverture-des-frontieres
 -2025
END:VEVENT
END:VCALENDAR
