BEGIN:VCALENDAR
VERSION:2.0
PRODID:-//Volt Europa//Events//EN
CALSCALE:GREGORIAN
METHOD:PUBLISH
BEGIN:VEVENT
UID:marche-khoda-1714829400@voltfrance.org
DTSTAMP:20260423T130705Z
DTSTART;TZID=Europe/Paris:20240504T153000
DTEND;TZID=Europe/Paris:20240504T180000
SUMMARY:Marche Хода le 4 mai
DESCRIPTION:Solidarité européenne : Pour la liberté de l'Ukraine et de l
 a Géorgie ! Selon un général de haut rang\, une nouvelle poussée russe 
 mettra l'Ukraine à rude épreuve...  Union des Ukrainiens de France Deux v
 otes de passés\, il en reste encore un. Le projet de loi sur «l’influen
 ce étrangère» est adopté en 2e lecture en Géorgie. Les opposants conti
 nuent de s’exprimer dans la rue...  Georgie vue de France  (GVDF) 
LOCATION:Place du Panthéon\, 75005 Paris
URL:https://voltfrance.org/evenements/marche-khoda
END:VEVENT
END:VCALENDAR
