BEGIN:VCALENDAR
VERSION:2.0
PRODID:-//Volt Europa//Events//EN
CALSCALE:GREGORIAN
METHOD:PUBLISH
BEGIN:VEVENT
UID:marche-des-fiertes-lgbtqia-ou-paris-pride-1751092200@voltfrance.org
DTSTAMP:20260423T113259Z
DTSTART;TZID=Europe/Paris:20250628T083000
DTEND;TZID=Europe/Paris:20250628T173000
SUMMARY:Marche des fiertés LGBTQIA+ ou Paris Pride
DESCRIPTION:Au-delà du défilé\, et dans une ambiance de fête\, Volt ser
 a présent pour revendiquer l'égalité des droits et lutter contre les dis
 criminations de genre et de sexualité.🏳‍🌈💜 Vous pouvez venir d
 guisé\, c'est plus rigolo ! 🥳 L'heure et le lieu précis du rendez vou
 s seront précisés ultérieurement\, nous prévoyons également un atelier
  pancarte juste avant le défilé.
LOCATION:Place de la Nation\, 75011 Paris
URL:https://voltfrance.org/evenements/marche-des-fiertes-lgbtqia-ou-paris-p
 ride
END:VEVENT
END:VCALENDAR
