BEGIN:VCALENDAR
VERSION:2.0
PRODID:-//Volt Europa//Events//EN
CALSCALE:GREGORIAN
METHOD:PUBLISH
BEGIN:VEVENT
UID:manifestations-unitaires-du-1-er-mai-1746100800@voltfrance.org
DTSTAMP:20260423T113111Z
DTSTART;TZID=Europe/Paris:20250501T140000
DTEND;TZID=Europe/Paris:20250501T170000
SUMMARY:Manifestations unitaires du 1er mai
DESCRIPTION:Volt Paris-Ile de France participera à la manifestation unitai
 re placée sous le  signe de la paix et de la justice sociale. Volt sera é
 galement présent à Strasbourg\, place Kleber à 10H00\, à Marseille au v
 ieux port à 10H30\, à Lyon à 10H30 au métro Garibaldi. A Lille\, Volt p
 articipe à la Louche  d'Or\, la fête internationale de la soupe !
LOCATION:Place d'Italie \, 75000 Paris
URL:https://voltfrance.org/evenements/manifestations-unitaires-du-1-er-mai
END:VEVENT
END:VCALENDAR
