BEGIN:VCALENDAR
VERSION:2.0
PRODID:-//Volt Europa//Events//EN
CALSCALE:GREGORIAN
METHOD:PUBLISH
BEGIN:VEVENT
UID:manifestation-pour-la-democratie-a-offenburg-1739008800@voltfrance.org
DTSTAMP:20260422T125235Z
DTSTART;TZID=Europe/Paris:20250208T110000
DTEND;TZID=Europe/Paris:20250208T130000
SUMMARY:Manifestation pour la Démocratie à Offenburg
DESCRIPTION:La campagne allemande arrive sur sa dernière ligne droite avec
  maintenant que trois semaines avant que les allemands se rendent aux urnes
  pour élire un nouveau bundestag le 23 février.  Nous sommes invités à 
 rejoindre nos camarades d'Ortenau le samedi 8.02 prochain pour une manifest
 ation pour la Démocratie et une politique de tolérance et de respect orga
 nisée par Pulse of Europe Ortenau. 🇨🇵🤝🇩🇪💜🇪🇺 #voltd
 eutschland #volt #strasbourgortenau #holenwirunsdiezukunftzurück
LOCATION:Platz der Verfassungsfreude d’Offenburg\, 77652 Offenburg\, Alle
 magne
URL:https://voltfrance.org/evenements/manifestation-pour-la-democratie-a-of
 fenburg
END:VEVENT
END:VCALENDAR
