BEGIN:VCALENDAR
VERSION:2.0
PRODID:-//Volt Europa//Events//EN
CALSCALE:GREGORIAN
METHOD:PUBLISH
BEGIN:VEVENT
UID:lille-reunion-publique-retour-sur-la-grande-braderie-1759168800@voltfra
 nce.org
DTSTAMP:20260423T113358Z
DTSTART;TZID=Europe/Paris:20250929T200000
DTEND;TZID=Europe/Paris:20250929T220000
SUMMARY:Lille : Réunion Publique\, retour sur la Grande Braderie
DESCRIPTION:Prolongeons la fête ! La Grande Braderie nous a permis de renc
 ontrer beaucoup de personnes\, sans avoir toujours le temps d'approfondir\,
  nous aimerions revenir sur ce moment  magique\, et en discuter autour d'un
  verre \, partager nos rêves et nos projets\, pour Lille et la Métropole\
 , pour la France\, pour l’Europe ! Militants\, sympathisants\, curieux ou
  simples passants\, on vous attend nombreux !
LOCATION:Grand Scène\, 31 rue de Béthune\, Lille 59800
URL:https://voltfrance.org/evenements/lille-reunion-publique-retour-sur-la-
 grande-braderie
END:VEVENT
END:VCALENDAR
