BEGIN:VCALENDAR
VERSION:2.0
PRODID:-//Volt Europa//Events//EN
CALSCALE:GREGORIAN
METHOD:PUBLISH
BEGIN:VEVENT
UID:lille-reunion-publique-le-20-janvier-2025-1737399600@voltfrance.org
DTSTAMP:20260423T113138Z
DTSTART;TZID=Europe/Paris:20250120T200000
DTEND;TZID=Europe/Paris:20250120T220000
SUMMARY:Lille Réunion Publique: le 20 janvier 2025
DESCRIPTION:Retrouvez Volt Lille lors d'une réunion publique le Lundi 20 j
 anvier à 20h\, à Grand Scène au 31 rue de Béthune. Venez découvrir Vol
 t Lille et discuter avec les membres de l'équipe !  Nous serons ravis de r
 épondre à vos questions\, de parler avec vous de l'Europe et de Volt\, et
   de recueillir vos suggestions sur les activités que nous projetons d'org
 aniser sur Lille. On vous attend nombreux !
LOCATION:Grand Scène\, 31 rue de Béthune\, Lille 59800
URL:https://voltfrance.org/evenements/lille-reunion-publique-le-20-janvier-
 2025
END:VEVENT
END:VCALENDAR
