BEGIN:VCALENDAR
VERSION:2.0
PRODID:-//Volt Europa//Events//EN
CALSCALE:GREGORIAN
METHOD:PUBLISH
BEGIN:VEVENT
UID:lille-reunion-publique-2-1731351600@voltfrance.org
DTSTAMP:20260423T112906Z
DTSTART;TZID=Europe/Paris:20241111T200000
DTEND;TZID=Europe/Paris:20241124T220000
SUMMARY:Lille : Réunion Publique
DESCRIPTION:Volt Lille organise une réunion publique le Lundi 11 Novembre 
 à 20h\, à Grand Scène au 31 rue de Béthune. N'hésitez pas à nous rejo
 indre et venez découvrir Volt Lille ainsi que discuter avec les membres de
  l'équipe !  On organise un débat sur les finances publiques et nous sero
 ns ravis de répondre à toute question ainsi que de vous faire découvrir 
 Volt ! On vous attend nombreux !
LOCATION:Grand Scène\, 31 rue de Béthune\, Lille 59800
URL:https://voltfrance.org/evenements/lille-reunion-publique-2
END:VEVENT
END:VCALENDAR
