BEGIN:VCALENDAR
VERSION:2.0
PRODID:-//Volt Europa//Events//EN
CALSCALE:GREGORIAN
METHOD:PUBLISH
BEGIN:VEVENT
UID:leurope-nous-appelle-ensemble-pour-leurope-1746774000@voltfrance.org
DTSTAMP:20260423T113116Z
DTSTART;TZID=Europe/Paris:20250509T090000
DTEND;TZID=Europe/Paris:20250510T025900
SUMMARY:L'Europe nous appelle ! Ensemble pour l'Europe !
DESCRIPTION:Le 9 mai 1950\, Robert Schuman a prononcÃ© sa dÃ©claration hist
 orique\, appelant Ã  une Europe plus forte et plus unie\, capable de faire 
 front commun face Ã  des menaces communes.  C'est cette vision\, qui consis
 te Ã  surmonter les divisions par l'intÃ©gration\, qui a donnÃ© naissance Ã
   l'Union europÃ©enne que nous connaissons aujourd'hui.   Pourtant\, 75 ans
  plus tard\, le monde est devenu mÃ©connaissable. Nous sommes entourÃ©s de 
 menaces : tarifs douaniers\, guerres commerciales\, conflits Ã  nos frontiÃ
 ¨res.  Po
LOCATION:Toute l'Europe
URL:https://voltfrance.org/evenements/leurope-nous-appelle-ensemble-pour-le
 urope
END:VEVENT
END:VCALENDAR
