BEGIN:VCALENDAR
VERSION:2.0
PRODID:-//Volt Europa//Events//EN
CALSCALE:GREGORIAN
METHOD:PUBLISH
BEGIN:VEVENT
UID:les-hollandais-votent-1717698600@voltfrance.org
DTSTAMP:20260423T112845Z
DTSTART;TZID=Europe/Paris:20240606T203000
DTEND;TZID=Europe/Paris:20240606T213000
SUMMARY:Suivez le vote Hollandais en live !
DESCRIPTION:Suivez en direct le scrutin néerlandais à la sortie des urnes
  Reinier van Lanschot et Anna Strolenberg représenteront probablement le p
 remier et unique parti paneuropéen de l'Europe.  Vos hôtes : Maartje de V
 roege Mike Winkel
LOCATION:Online
URL:https://voltfrance.org/evenements/les-hollandais-votent
END:VEVENT
END:VCALENDAR
