BEGIN:VCALENDAR
VERSION:2.0
PRODID:-//Volt Europa//Events//EN
CALSCALE:GREGORIAN
METHOD:PUBLISH
BEGIN:VEVENT
UID:les-europeennes-2024-votez-nombreux-1717912800@voltfrance.org
DTSTAMP:20260423T113422Z
DTSTART;TZID=Europe/Paris:20240609T080000
DTEND;TZID=Europe/Paris:20240609T180000
SUMMARY:Les européennes 2024 : votez pour la liste 31 !
DESCRIPTION:Votez Guillaume LACROIX Europe Territoires Écologie
LOCATION:Dans votre bureau de vote
URL:https://voltfrance.org/evenements/les-europeennes-2024-votez-nombreux
END:VEVENT
END:VCALENDAR
