BEGIN:VCALENDAR
VERSION:2.0
PRODID:-//Volt Europa//Events//EN
CALSCALE:GREGORIAN
METHOD:PUBLISH
BEGIN:VEVENT
UID:les-europeennes-2024-en-debat-environnement-et-energie-1716912000@voltf
 rance.org
DTSTAMP:20260423T113521Z
DTSTART;TZID=Europe/Paris:20240528T180000
DTEND;TZID=Europe/Paris:20240528T210000
SUMMARY:Les européennes 2024 en débat - Environnement et Energie
DESCRIPTION:A l'initiative des Jeunes Européens de Lille Métropole\, 7 ca
 ndidats se réuniront ce mardi pour débattre sur le thème de l'Europe en 
 transition\, et plus particulièrement sur l'Environnement et l'Energie et 
 répondre aux questions des citoyens   Invités: Frederic Nihous       -  L
 es Républicains Sven Franck               - Volt  Sarah Kerrich           
  - PS - Place Publique Louison Bastien         - Réfèrent JAM 59 - Renais
 sance Anatole Reverberi      - Equinoxe Madjouline Sbai          - Europe E
LOCATION:Lille - la fabrique du sud\, 7 bis rue de l'Asie
URL:https://voltfrance.org/evenements/les-europeennes-2024-en-debat-environ
 nement-et-energie
END:VEVENT
END:VCALENDAR
