BEGIN:VCALENDAR
VERSION:2.0
PRODID:-//Volt Europa//Events//EN
CALSCALE:GREGORIAN
METHOD:PUBLISH
BEGIN:VEVENT
UID:les-aperos-debat-de-volt-1732644000@voltfrance.org
DTSTAMP:20260423T183218Z
DTSTART;TZID=Europe/Paris:20241126T190000
DTEND;TZID=Europe/Paris:20241126T210000
SUMMARY:Les apéros - débat de Volt - Première à Paris !
DESCRIPTION:Volt lance une série de conversations citoyennes dans toute la
  France ! On commence par une discussion sur le budget de l’Etat via la l
 oi de finance. Son passage au Sénat en Décembre va imposer des choix de s
 ociété importants.  Décryptons ensemble et débattons des choix faits pa
 r le biais des finances publiques.
LOCATION:Café bar le Sunset\, 100 rue Ordener\, 75018 Paris
URL:https://voltfrance.org/evenements/les-aperos-debat-de-volt
END:VEVENT
END:VCALENDAR
