BEGIN:VCALENDAR
VERSION:2.0
PRODID:-//Volt Europa//Events//EN
CALSCALE:GREGORIAN
METHOD:PUBLISH
BEGIN:VEVENT
UID:lemploi-des-francaises-et-francais-de-letranger-mission-impossible-1747
 931400@voltfrance.org
DTSTAMP:20260424T082752Z
DTSTART;TZID=Europe/Paris:20250522T183000
DTEND;TZID=Europe/Paris:20250522T200000
SUMMARY:L’emploi des françaises et français de l’étranger : mission 
 impossible ?
DESCRIPTION:Trouver un emploi à l’étranger\, c’est souvent naviguer s
 eul face à des défis complexes. Pourtant\, nous sommes nombreux à partag
 er les mêmes enjeux. Et si\, pour une fois\, nous nous posions ensemble le
 s bonnes questions ? Après Berlin en janvier et Francfort en avril\, Volt 
 France poursuit ses rencontres hors de France. Cette fois-ci\, rendez-vous 
 à Berlin pour une édition spéciale dédiée à un sujet qui nous touche 
 tous : le travail et l’emploi des nouveaux arrivants. 🎙️ Avec Anne-C
 hrystelle Bätz\, p
LOCATION:Choriner Straße 34\, 10435 Berlin\, Allemagne
URL:https://voltfrance.org/evenements/lemploi-des-francaises-et-francais-de
 -letranger-mission-impossible
END:VEVENT
END:VCALENDAR
