BEGIN:VCALENDAR
VERSION:2.0
PRODID:-//Volt Europa//Events//EN
CALSCALE:GREGORIAN
METHOD:PUBLISH
BEGIN:VEVENT
UID:le-projet-de-loi-de-finances-2025-debat-anime-1733335200@voltfrance.org
DTSTAMP:20260423T113157Z
DTSTART;TZID=Europe/Paris:20241204T190000
DTEND;TZID=Europe/Paris:20241204T220000
SUMMARY:Apéro-Débat Volt à Nantes
DESCRIPTION:Le Projet de Loi de Finances 2025 : les finances publiques dans
  un contexte politique et budgétaire Son passage au Sénat en Décembre va
  imposer des choix de société importants. Décryptons ensemble et débatt
 ons des choix faits par le biais des finances publiques.  Récoltons vos av
 is\, indignations\, suggestions\, etc. Vous pourrez accompagner le débat d
 'une boisson chaude ou plus fraîche et en profiter pour découvrir Volt Fr
 ance !  Mais qu'est ce que Volt ?  Volt est un mouvement citoyen comptant p
 l
LOCATION:Bar L'Ubik\, 43 Rue Maréchal Joffre\, 44000 Nantes
URL:https://voltfrance.org/evenements/le-projet-de-loi-de-finances-2025-deb
 at-anime
END:VEVENT
END:VCALENDAR
