BEGIN:VCALENDAR
VERSION:2.0
PRODID:-//Volt Europa//Events//EN
CALSCALE:GREGORIAN
METHOD:PUBLISH
BEGIN:VEVENT
UID:le-grand-oral-des-elections-europeennes-2024-a-sciences-po-aix-en-prove
 nce-1715098500@voltfrance.org
DTSTAMP:20260423T142741Z
DTSTART;TZID=Europe/Paris:20240507T181500
DTEND;TZID=Europe/Paris:20240507T200000
SUMMARY:Le Grand Oral des élections européennes 2024 à Sciences Po Aix-e
 n-Provence.
DESCRIPTION:Conférence organisée par l’association des  Mouvement Euro
 péen Provence  et par l’association étudiante  Le Parlement des Étudia
 nts . Emploi\, climat\, Ukraine\, migrations… Députés et candidats aux 
 élections européennes du 9 juin 2024 seront interrogés sur leurs projets
  et leurs ambitions pour l’Europe. Un débat pluraliste modéré par  Emm
 anuelle Michel \, journaliste de Radio RCF. Franck ALLISIO \, député de l
 ’Assemblée nationale RN. Kenza ATHANASOPOULOS \, candidate aux élection
 s européennes\, liste 
LOCATION:Sciences Po Aix\, 25 rue Gaston de Saporta\, 13100\, Aix-en-Proven
 ce
URL:https://voltfrance.org/evenements/le-grand-oral-des-elections-europeenn
 es-2024-a-sciences-po-aix-en-provence
END:VEVENT
END:VCALENDAR
