BEGIN:VCALENDAR
VERSION:2.0
PRODID:-//Volt Europa//Events//EN
CALSCALE:GREGORIAN
METHOD:PUBLISH
BEGIN:VEVENT
UID:lancement-du-tour-de-france-de-salam-shalom-salut-1740247200@voltfrance
 .org
DTSTAMP:20260425T162927Z
DTSTART;TZID=Europe/Paris:20250222T190000
DTEND;TZID=Europe/Paris:20250222T220000
SUMMARY:Tour de France de "Salam\, Shalom\, Salut"
DESCRIPTION:Volt Ile de France participait au lancement du tour de France d
 e "Salam\, Shalom\, Salut" organisé par SOS racisme depuis novembre 2018. 
 C'est une action qui permet à de jeunes juifs et arabes d'aller à la renc
 ontre de leur concitoyens pour exprimer leur volonté de vivre ensemble et 
 de lutter côte à côte contre le racisme et l'antisémitisme. C'est un pr
 ojet en partenariat avec l’Union des Etudiants Juifs de France\, Jalons p
 our la Paix\, Scouts Musulmans de France\, Éclaireuses et éclaireurs Isra
 élit
LOCATION:La Bellevilloise\, 19-21 rue Boyer\, 75020 Paris.
URL:https://voltfrance.org/evenements/lancement-du-tour-de-france-de-salam-
 shalom-salut
END:VEVENT
END:VCALENDAR
