BEGIN:VCALENDAR
VERSION:2.0
PRODID:-//Volt Europa//Events//EN
CALSCALE:GREGORIAN
METHOD:PUBLISH
BEGIN:VEVENT
UID:lancement-de-la-campagne-des-municipales-a-lyon-1739624400@voltfrance.o
 rg
DTSTAMP:20260423T113240Z
DTSTART;TZID=Europe/Paris:20250215T140000
DTEND;TZID=Europe/Paris:20250215T180000
SUMMARY:Lyon : Lancement de la campagne des municipales
DESCRIPTION:L'Ã©quipe de Volt Lyon\, associÃ©e Ã  nos alliÃ©s Equinoxe et 1
 00%Citoyen propose une aprÃ¨s midi de rencontre afin de lancer notre campag
 ne pour les Ã©lections municipales et mÃ©tropolitaines de 2026. Au programm
 e\, prÃ©sentation du systÃ¨me des Ã©lections sur la mÃ©tropole de Lyon\, Ã©
 tat des lieux et rÃ©trospective des forces politiques en prÃ©sence et prÃ©s
 entation du travail programmatique accompli par nos Ã©quipes locales! L'Ã©q
 uipe de100% Citoyen\, forte de l'expÃ©rience de ses prÃ©cÃ©dentes campagnes
 \, pourra no
LOCATION:Le Britannia 20 boulevard EugÃ¨ne Deruelle\, bÃ¢timent C\, 3Ã¨me Ã
 ©tage\, 69003 Lyon.
URL:https://voltfrance.org/evenements/lancement-de-la-campagne-des-municipa
 les-a-lyon
END:VEVENT
END:VCALENDAR
