BEGIN:VCALENDAR
VERSION:2.0
PRODID:-//Volt Europa//Events//EN
CALSCALE:GREGORIAN
METHOD:PUBLISH
BEGIN:VEVENT
UID:la-soiree-electorale-du-premier-tour-a-lille-1719770400@voltfrance.org
DTSTAMP:20260423T155550Z
DTSTART;TZID=Europe/Paris:20240630T200000
DTEND;TZID=Europe/Paris:20240630T210000
SUMMARY:La soirée électorale du premier tour à Lille
DESCRIPTION:Des ors de la préfecture au pub avec les amis \, Sven a vite c
 hoisi où fêter la fin de la campagne du premier tour ! Bonne soirée les 
 amis et bravo pour la super campagne !
LOCATION:Lille
URL:https://voltfrance.org/evenements/la-soiree-electorale-du-premier-tour-
 a-lille
END:VEVENT
END:VCALENDAR
