BEGIN:VCALENDAR
VERSION:2.0
PRODID:-//Volt Europa//Events//EN
CALSCALE:GREGORIAN
METHOD:PUBLISH
BEGIN:VEVENT
UID:la-louche-dor-avec-volt-lille-1777636800@voltfrance.org
DTSTAMP:20260422T120011Z
DTSTART;TZID=Europe/Paris:20260501T140000
DTEND;TZID=Europe/Paris:20260501T210000
SUMMARY:La Louche d’Or avec Volt Lille !
DESCRIPTION:Volt Lille\, sera présent pour la huitième année consécutiv
 e au Festival de la Louche d’or avec son inimitable soupe violette aux in
 grédients locaux et écologiques.  La soupe étant un plat universellement
  partagé\, c’est l'occasion de participer activement au croisement des s
 ensibilités artistiques\, culinaires et culturelles respectives de tous le
 s continents. Des animations sont  prévues sur le thème de l’Europe\, v
 enez participer au quizz !
LOCATION:Jardin des Soupes\, 70 rue des Sarrazins\, 59000 Lille - Wazemmes
URL:https://voltfrance.org/evenements/la-louche-dor-avec-volt-lille
END:VEVENT
END:VCALENDAR
