BEGIN:VCALENDAR
VERSION:2.0
PRODID:-//Volt Europa//Events//EN
CALSCALE:GREGORIAN
METHOD:PUBLISH
BEGIN:VEVENT
UID:journee-de-leurope-a-paris-1746865800@voltfrance.org
DTSTAMP:20260423T113000Z
DTSTART;TZID=Europe/Paris:20250510T103000
DTEND;TZID=Europe/Paris:20250510T223000
SUMMARY:Journée de l'Europe à Paris
DESCRIPTION:Volt Île-de-France proposera un jeu inédit\, élaboré par l'
 équipe politique de Volt France\, sur le thème du  budget européen \, en
  marge des festivités du Village européen qui se tient comme toutes les a
 nnées en hommage à  la déclaration Schuman de 1950 .
LOCATION:Place de la République\, Paris
URL:https://voltfrance.org/evenements/journee-de-leurope-a-paris
END:VEVENT
END:VCALENDAR
