BEGIN:VCALENDAR
VERSION:2.0
PRODID:-//Volt Europa//Events//EN
CALSCALE:GREGORIAN
METHOD:PUBLISH
BEGIN:VEVENT
UID:journee-de-leurope-a-nantes-1778328000@voltfrance.org
DTSTAMP:20260421T103548Z
DTSTART;TZID=Europe/Paris:20260509T140000
DTEND;TZID=Europe/Paris:20260509T190000
SUMMARY:JournÃ©e de l'Europe Ã  Nantes
DESCRIPTION:Volt Nantes organise une aprÃ¨s-midi de jeux sur l'Union europÃ
 ©enne et Volt en centre ville\, le lieu exact doit nous Ãªtre donnÃ© par la
  mairie. Nous pourrons  ainsi participer au jeu du budget crÃ©Ã© par Christ
 ine et l'Ã©quipe politique\,  Ã  des quizz sur le fonctionnement de l'UE et
  l'univers de Volt Ã  un jeu de cartes pour expliquer la structure de l'UE 
 et la rÃ©forme souhaitÃ©e par Volt  Toutes les  personnes  motivÃ©es Ã  par
 ticiper avec nous sont les bienvenues !  Nantes au moins de mai c'est trÃ¨s
  ag
LOCATION:Lieu exact Ã  confirmer
URL:https://voltfrance.org/evenements/journee-de-leurope-a-nantes
END:VEVENT
END:VCALENDAR
