BEGIN:VCALENDAR
VERSION:2.0
PRODID:-//Volt Europa//Events//EN
CALSCALE:GREGORIAN
METHOD:PUBLISH
BEGIN:VEVENT
UID:j-48-meeting-coalition-ete-1713808800@voltfrance.org
DTSTAMP:20260423T112951Z
DTSTART;TZID=Europe/Paris:20240422T200000
DTEND;TZID=Europe/Paris:20240422T210000
SUMMARY:J-48 Meeting Coalition ETE
DESCRIPTION:Guillaume Lacroix\, le prĂ©sident Parti radical de Gauche et tĂ
 Şte de liste Europe Territoire Ecologie pour les Ă©lections europĂ©ennes se
 ra prĂ©sent lundi 22 avril Ă  GuĂ©ret pour une rĂ©union publique. Eric Corr
 eia\, en 9e position sur la liste en sera. Lâ€™occasion pour lâ€™Ă©lu creus
 ois dâ€™affirmer Ă  nouveau lâ€™Europe Ă  laquelle nous aspirons. Volt y se
 ra bien-sĂ»r !
LOCATION:Salle de la Mairie de GuĂ©ret\, Esplanade FranĂ§ois Mitterand\, 23
 000 GuĂ©ret
URL:https://voltfrance.org/evenements/j-48-meeting-coalition-ete
END:VEVENT
END:VCALENDAR
