BEGIN:VCALENDAR
VERSION:2.0
PRODID:-//Volt Europa//Events//EN
CALSCALE:GREGORIAN
METHOD:PUBLISH
BEGIN:VEVENT
UID:invitation-meet-and-greet-avec-volt-lille-1756747800@voltfrance.org
DTSTAMP:20260423T074425Z
DTSTART;TZID=Europe/Paris:20250901T193000
DTEND;TZID=Europe/Paris:20250901T213000
SUMMARY:Invitation Meet and Greet avec Volt Lille
DESCRIPTION:Les élections municipales et métropolitaines\, c'est l'année
  prochaine\, faisons en sorte d'être prêts et informés ! Venez partager 
 un bon moment et discuter de votre avenir avec l'équipe de Volt Lille !
LOCATION:Grand Scène\, 31 rue de Béthune\, 59000 Lille
URL:https://voltfrance.org/evenements/invitation-meet-and-greet-avec-volt-l
 ille
END:VEVENT
END:VCALENDAR
