BEGIN:VCALENDAR
VERSION:2.0
PRODID:-//Volt Europa//Events//EN
CALSCALE:GREGORIAN
METHOD:PUBLISH
BEGIN:VEVENT
UID:histoire-de-la-dissuasion-nucleaire-francaise-rencontre-avec-les-auteur
 s-1779814800@voltfrance.org
DTSTAMP:20260421T103532Z
DTSTART;TZID=Europe/Paris:20260526T190000
DTEND;TZID=Europe/Paris:20260526T210000
SUMMARY:« Histoire de la dissuasion nucléaire française »\, rencontre a
 vec les auteurs
DESCRIPTION:Volt France  organise une rencontre dédicace autour de l'ouvra
 ge «  Histoire de la dissuasion nucléaire française  » de  Florian Gall
 eri\, Benoît Grémare et Yannick Pincé  Le retour au pouvoir de Donald Tr
 ump\, les rivalités entre Chine et Russie\, les risques de prolifération 
 en Corée accentuent le focus sur les enjeux du nucléaire en raison des cr
 aintes évidentes d’une transformation majeure de la relation transatlant
 ique qui pose la question d’une défense européenne autonome et donc de 
 sa dimens
LOCATION:Librairie Compagnie\, 58 rue des Ecoles\, 75005 Paris
URL:https://voltfrance.org/evenements/histoire-de-la-dissuasion-nucleaire-f
 rancaise-rencontre-avec-les-auteurs
END:VEVENT
END:VCALENDAR
