BEGIN:VCALENDAR
VERSION:2.0
PRODID:-//Volt Europa//Events//EN
CALSCALE:GREGORIAN
METHOD:PUBLISH
BEGIN:VEVENT
UID:grand-debat-des-europeennes-avec-guillaume-lacroix-1717532100@voltfranc
 e.org
DTSTAMP:20260423T113421Z
DTSTART;TZID=Europe/Paris:20240604T221500
DTEND;TZID=Europe/Paris:20240604T231500
SUMMARY:L'évènement sur France Info: Grand débat des européennes avec G
 uillaume Lacroix
DESCRIPTION:Une soirée de débats au cours de laquelle les têtes de liste
  des principaux partis confrontent leurs points de vue et leur vision pour 
 l’Europe\, dans un dernier grand rendez-vous politique avant le scrutin. 
 A suivre en direct sur France Info\, la deuxième partie du grand débat de
 s européennes dans le cadre de l'émission "L'Evénement"\, avec GUILLAUME
  LACROIX\, Nathalie Arthaud\, François Asselineau\, Jean-Marc Governatori\
 , Pierre Larrouturou\, Jean Lassalle\, Florian Philippot\, Hélène Thouy. 
  A vos écr
LOCATION:France Info
URL:https://voltfrance.org/evenements/grand-debat-des-europeennes-avec-guil
 laume-lacroix
END:VEVENT
END:VCALENDAR
