BEGIN:VCALENDAR
VERSION:2.0
PRODID:-//Volt Europa//Events//EN
CALSCALE:GREGORIAN
METHOD:PUBLISH
BEGIN:VEVENT
UID:georges-pompidou-l-intemporel-1743699600@voltfrance.org
DTSTAMP:20260423T113111Z
DTSTART;TZID=Europe/Paris:20250403T190000
DTEND;TZID=Europe/Paris:20250403T210000
SUMMARY:Georges Pompidou l'Intemporel - et  actuel plus que jamais ?
DESCRIPTION:Volt Paris - Ile de France est partenaire organisateur d'une re
 ncontre avec JÃ©rÃ©mie Gallon\, actuellement directeur gÃ©nÃ©ral du cabinet
  de conseil gÃ©opolitique McLarty Associates et parallÃ¨lement enseignant Ã
   Sciences Po pour les questions internationales.  Il fut aussi diplomate\,
  conseiller auprÃ¨s de l'ambassadeur de l'Union EuropÃ©enne aux Etats Unis 
 pendant le premier mandat de Donald Trump. AprÃ¨s la publication de Henry K
 issinger\, l'EuropÃ©en\, il viendra parler Ã  la librairie Compagnie de son
  de
LOCATION:Librairie Compagnie\, 58 rue des Ã©coles\, 75005 Paris.
URL:https://voltfrance.org/evenements/georges-pompidou-l-intemporel
END:VEVENT
END:VCALENDAR
