BEGIN:VCALENDAR
VERSION:2.0
PRODID:-//Volt Europa//Events//EN
CALSCALE:GREGORIAN
METHOD:PUBLISH
BEGIN:VEVENT
UID:fete-de-leurope-1746810000@voltfrance.org
DTSTAMP:20260423T183919Z
DTSTART;TZID=Europe/Paris:20250509T190000
DTEND;TZID=Europe/Paris:20250509T210000
SUMMARY:Fête de l'Europe
DESCRIPTION:Volt Île-de-France propose une soirée conviviale pour céléb
 rer l'Europe\, sur le thème de  l'autonomie stratégique de l'Europe \, an
 imation par Paul Harrassowitz.
LOCATION:TLM\, 105 rue Curial\, 75019 Paris
URL:https://voltfrance.org/evenements/fete-de-leurope
END:VEVENT
END:VCALENDAR
