BEGIN:VCALENDAR
VERSION:2.0
PRODID:-//Volt Europa//Events//EN
CALSCALE:GREGORIAN
METHOD:PUBLISH
BEGIN:VEVENT
UID:europeens-en-france-inscrivez-vous-1769252400@voltfrance.org
DTSTAMP:20260423T024346Z
DTSTART;TZID=Europe/Paris:20260124T120000
DTEND;TZID=Europe/Paris:20260206T180000
SUMMARY:Européen·ne en France : inscris-toi !
DESCRIPTION:Êtes-vous l'un des 1\,5 million de citoyens européens résida
 nt en France ? Vous représenterez environ  7% des électeurs  lors des pro
 chaines élections municipales\, un nombre amplement suffisant pour éviter
  que la France ne soit représentée que par une majorité de maires d'extr
 ême droite.  Que vous soyez en France pour Erasmus ou pour le travail\, il
  est temps de prendre position en faveur de l'Europe et de votre droit de v
 ivre\, d’étudier et de travailler partout en Europe.  À moins de deux 
 mois de
LOCATION:En ligne et en Mairie
URL:https://voltfrance.org/evenements/europeens-en-france-inscrivez-vous
END:VEVENT
END:VCALENDAR
