BEGIN:VCALENDAR
VERSION:2.0
PRODID:-//Volt Europa//Events//EN
CALSCALE:GREGORIAN
METHOD:PUBLISH
BEGIN:VEVENT
UID:envie-de-decouvrir-volt-a-lille-et-de-partager-un-moment-de-convivialit
 e-1749060000@voltfrance.org
DTSTAMP:20260423T113358Z
DTSTART;TZID=Europe/Paris:20250604T200000
DTEND;TZID=Europe/Paris:20250604T220000
SUMMARY:Envie de découvrir Volt à Lille et de partager un moment de convi
 vialité ?
DESCRIPTION:Ça tombe bien ! Volt Lille organise une réunion publique et o
 n vous attend nombreux !
LOCATION:Grand Scène\, 31 Rue de Béthune\, 59800 Lille
URL:https://voltfrance.org/evenements/envie-de-decouvrir-volt-a-lille-et-de
 -partager-un-moment-de-convivialite
END:VEVENT
END:VCALENDAR
