BEGIN:VCALENDAR
VERSION:2.0
PRODID:-//Volt Europa//Events//EN
CALSCALE:GREGORIAN
METHOD:PUBLISH
BEGIN:VEVENT
UID:elections-europeennes-2024-quelle-vision-de-leurope-nous-propose-t-on-1
 716825600@voltfrance.org
DTSTAMP:20260423T113421Z
DTSTART;TZID=Europe/Paris:20240527T180000
DTEND;TZID=Europe/Paris:20240527T200000
SUMMARY:Européennes 2024 : Quelle vision de l'Europe nous propose-t-on ?
DESCRIPTION:Avec des candidats de listes : Géraldine AMOUREUX : Les Répub
 licains David CORMAND : Europe Ecologie Sven Franck : ETÉ – Volt Aziz SK
 ALLI: Besoin d'Europe Julie RECHAGNEUX : Rassemblement National Parti Socia
 liste / Place Publique La France Insoumise
LOCATION:1 rue Jaques Ellul\, 33800 Bordeaux (tram C ou D arrets Sainte Cro
 ix Tauziat)
URL:https://voltfrance.org/evenements/elections-europeennes-2024-quelle-vis
 ion-de-leurope-nous-propose-t-on
END:VEVENT
END:VCALENDAR
