BEGIN:VCALENDAR
VERSION:2.0
PRODID:-//Volt Europa//Events//EN
CALSCALE:GREGORIAN
METHOD:PUBLISH
BEGIN:VEVENT
UID:digital-democracy-in-action-1714300200@voltfrance.org
DTSTAMP:20260423T112826Z
DTSTART;TZID=Europe/Paris:20240428T123000
DTEND;TZID=Europe/Paris:20240428T171500
SUMMARY:La DÃ©mocratie NumÃ©rique en Action
DESCRIPTION:Rejoignez la sÃ©rie de discussions Volt : La dÃ©mocratie numÃ©r
 ique en action Luttons contre la dÃ©sinformation et les discours de haine e
 n ligne\, tout en prÃ©servant la libertÃ© d'expression et la vie privÃ©e. Ã
 ‰tudions comment nous pouvons Ãªtre Ã  la pointe des technologies numÃ©riqu
 es au niveau mondial\, telles que l'IA\, la technologie des puces et l'info
 rmatique quantique\, tout en amÃ©liorant la cybersÃ©curitÃ© et l'utilisatio
 n responsable des technologies. Contribuer Ã  la discussion pour rendre les
  servi
LOCATION:Mundo Madou\, Avenue des Arts 7-8\, 1210 Brussels
URL:https://voltfrance.org/evenements/digital-democracy-in-action
END:VEVENT
END:VCALENDAR
