BEGIN:VCALENDAR
VERSION:2.0
PRODID:-//Volt Europa//Events//EN
CALSCALE:GREGORIAN
METHOD:PUBLISH
BEGIN:VEVENT
UID:dialogue-pour-les-municipales-2026-parite-et-synergie-entre-partis-euro
 peens-1771068600@voltfrance.org
DTSTAMP:20260423T155401Z
DTSTART;TZID=Europe/Paris:20260214T123000
DTEND;TZID=Europe/Paris:20260214T180000
SUMMARY:Dialogue pour les municipales 2026 : Parité et Synergie entre part
 is européens
DESCRIPTION:Volt organise un événement public auquel seront invités des 
 représentants de partis et d'associations avec lesquels nous collaborons e
 n vue des prochaines municipales. Cet événement sera articulé en  trois 
 parties  : Première partie  12h30-14h00 Déjeuner grands donateurs Volt De
 uxième partie 14h00-15h15 Débat 1: Comment Féminiser la vie politique ? 
 Ce premier panel sera consacré à l’engagement des femmes en politique d
 ans le cadre des élections municipales de 2026. Les participantes : Mireil
 le C
LOCATION:17 rue d'Antin\, 75002 Paris
URL:https://voltfrance.org/evenements/dialogue-pour-les-municipales-2026-pa
 rite-et-synergie-entre-partis-europeens
END:VEVENT
END:VCALENDAR
