BEGIN:VCALENDAR
VERSION:2.0
PRODID:-//Volt Europa//Events//EN
CALSCALE:GREGORIAN
METHOD:PUBLISH
BEGIN:VEVENT
UID:des-crises-globales-des-solutions-locales-des-2026-1744821000@voltfranc
 e.org
DTSTAMP:20260423T113300Z
DTSTART;TZID=Europe/Paris:20250416T183000
DTEND;TZID=Europe/Paris:20250416T210000
SUMMARY:Des crises globales ? Des solutions locales... dès 2026 !
DESCRIPTION:Volt Lyon\, avec100% citoyens et Equinoxe invite à une réunio
 n publique en vue des élections municipales et métropolitaines\, en prés
 ence de plusieurs grands témoins et personnalités politiques locales. Vou
 s voulez en savoir plus ?  https://drive.google.com/file/d/17Ct5Sc45v_06AAa
 m3nxJQSC9yZmHjrhF/view?usp=drive_link Et pour vous inscrire\, cliquez ici :
   https://forms.gle/ZFN3T6dFsjb1XujZ6 Au plaisir de vous rencontrer très p
 rochainement !
LOCATION:Institut Goethe\, 18 rue François Dauphin\, 69 002 Lyon
URL:https://voltfrance.org/evenements/des-crises-globales-des-solutions-loc
 ales-des-2026
END:VEVENT
END:VCALENDAR
